BEGIN:VCALENDAR
VERSION:2.0
PRODID:-//Blue Heron - ECPv6.15.20//NONSGML v1.0//EN
CALSCALE:GREGORIAN
METHOD:PUBLISH
X-ORIGINAL-URL:https://www.blueheron.org
X-WR-CALDESC:Events for Blue Heron
REFRESH-INTERVAL;VALUE=DURATION:PT1H
X-Robots-Tag:noindex
X-PUBLISHED-TTL:PT1H
BEGIN:VTIMEZONE
TZID:America/New_York
BEGIN:DAYLIGHT
TZOFFSETFROM:-0500
TZOFFSETTO:-0400
TZNAME:EDT
DTSTART:20240310T070000
END:DAYLIGHT
BEGIN:STANDARD
TZOFFSETFROM:-0400
TZOFFSETTO:-0500
TZNAME:EST
DTSTART:20241103T060000
END:STANDARD
BEGIN:DAYLIGHT
TZOFFSETFROM:-0500
TZOFFSETTO:-0400
TZNAME:EDT
DTSTART:20250309T070000
END:DAYLIGHT
BEGIN:STANDARD
TZOFFSETFROM:-0400
TZOFFSETTO:-0500
TZNAME:EST
DTSTART:20251102T060000
END:STANDARD
BEGIN:DAYLIGHT
TZOFFSETFROM:-0500
TZOFFSETTO:-0400
TZNAME:EDT
DTSTART:20260308T070000
END:DAYLIGHT
BEGIN:STANDARD
TZOFFSETFROM:-0400
TZOFFSETTO:-0500
TZNAME:EST
DTSTART:20261101T060000
END:STANDARD
END:VTIMEZONE
BEGIN:VEVENT
DTSTART;TZID=America/New_York:20250202T153000
DTEND;TZID=America/New_York:20250202T170000
DTSTAMP:20260419T201310
CREATED:20240827T154203Z
LAST-MODIFIED:20240827T162152Z
UID:10000006-1738510200-1738515600@www.blueheron.org
SUMMARY:BH in NYC: The Armed Archangel: Johannes Regis\, Missa L’homme armé
DESCRIPTION:  \n\n\n\n\n\nSun.\, Feb. 2\, 3:30 PM Tickets $10-$100\nBuy Tickets\n \n\n\n\n\n\nRegis’s Mass based on the song L’homme armé is one of the very first in a series of L’homme armé works stretching across musical generations – and the only one whose origins are clearly understood. Written for the celebration of the feast of St. Michael at Cambrai Cathedral in 1462\, the Mass is a tour de force setting multiple plainchant cantus firmi and featuring Regis’s brilliant and unique sense of sonority.
URL:https://www.blueheron.org/concerts/nyc-armed-archangel/
LOCATION:Saint Ignatius of Antioch Episcopal Church\, 552 West End Ave\, New York\, NY\, 10024
CATEGORIES:Concert
ATTACH;FMTTYPE=image/png:https://www.blueheron.org/wp-content/uploads/2024/08/archangel-NYC.png
END:VEVENT
END:VCALENDAR